BEGIN:VCALENDAR
VERSION:2.0
PRODID:-//Turvallisuusj&auml;rjest&ouml;jen Forum - ECPv6.15.13.1//NONSGML v1.0//EN
CALSCALE:GREGORIAN
METHOD:PUBLISH
X-ORIGINAL-URL:https://www.turvallisuusfoorumi.fi
X-WR-CALDESC:Tapahtumat Turvallisuusj&auml;rjest&ouml;jen Forum
REFRESH-INTERVAL;VALUE=DURATION:PT1H
X-Robots-Tag:noindex
X-PUBLISHED-TTL:PT1H
BEGIN:VTIMEZONE
TZID:UTC
BEGIN:STANDARD
TZOFFSETFROM:+0000
TZOFFSETTO:+0000
TZNAME:UTC
DTSTART:20230101T000000
END:STANDARD
END:VTIMEZONE
BEGIN:VEVENT
DTSTART;TZID=UTC:20240320T110000
DTEND;TZID=UTC:20240322T100000
DTSTAMP:20260422T171838
CREATED:20240228T072134Z
LAST-MODIFIED:20240228T072134Z
UID:737-1710932400-1711101600@www.turvallisuusfoorumi.fi
SUMMARY:Tätä et kuule muualla -turvallisuusseminaari 20.-22.3.2024
DESCRIPTION:Turvallisuusseminaari
URL:https://www.turvallisuusfoorumi.fi/event/tata-et-kuule-muualla-turvallisuusseminaari-20-22-3-2024/
END:VEVENT
END:VCALENDAR